BEGIN:VCALENDAR
VERSION:2.0
PRODID:-//Box of Frogs - ECPv6.15.17//NONSGML v1.0//EN
CALSCALE:GREGORIAN
METHOD:PUBLISH
X-ORIGINAL-URL:https://boxoffrogsimpro.co.uk
X-WR-CALDESC:Events for Box of Frogs
REFRESH-INTERVAL;VALUE=DURATION:PT1H
X-Robots-Tag:noindex
X-PUBLISHED-TTL:PT1H
BEGIN:VTIMEZONE
TZID:Europe/London
BEGIN:DAYLIGHT
TZOFFSETFROM:+0000
TZOFFSETTO:+0100
TZNAME:BST
DTSTART:20250330T010000
END:DAYLIGHT
BEGIN:STANDARD
TZOFFSETFROM:+0100
TZOFFSETTO:+0000
TZNAME:GMT
DTSTART:20251026T010000
END:STANDARD
BEGIN:DAYLIGHT
TZOFFSETFROM:+0000
TZOFFSETTO:+0100
TZNAME:BST
DTSTART:20260329T010000
END:DAYLIGHT
BEGIN:STANDARD
TZOFFSETFROM:+0100
TZOFFSETTO:+0000
TZNAME:GMT
DTSTART:20261025T010000
END:STANDARD
BEGIN:DAYLIGHT
TZOFFSETFROM:+0000
TZOFFSETTO:+0100
TZNAME:BST
DTSTART:20270328T010000
END:DAYLIGHT
BEGIN:STANDARD
TZOFFSETFROM:+0100
TZOFFSETTO:+0000
TZNAME:GMT
DTSTART:20271031T010000
END:STANDARD
END:VTIMEZONE
BEGIN:VEVENT
DTSTART;TZID=Europe/London:20260820T203000
DTEND;TZID=Europe/London:20260820T212000
DTSTAMP:20260419T183937
CREATED:20260406T155058Z
LAST-MODIFIED:20260406T155058Z
UID:10001093-1787257800-1787260800@boxoffrogsimpro.co.uk
SUMMARY:Improv Comedy with Box of Frogs @ Edinburgh Fringe 2026!
DESCRIPTION:Join Box of Frogs for uplifting and hilarious improvised comedy as they return for their fourth triumphant year! Expect the unexpected as these quick-witted performers instantly create silly sketches\, catchy songs and ridiculous characters – all inspired by your suggestions! Each show from this award-winning troupe (Best Improv Show\, Derek Awards\, Edinburgh Fringe 2025) is completely made-up and utterly unique! \nAudiences say they were ‘Laughing hard the whole way through!’ and it’s ‘So good we went back again! Genuine belly laughs’. \n★★★★★\n‘Comedy royalty’\nDerek Awards \n★★★★★\n‘Hilariously funny’\nMoreishTV
URL:https://boxoffrogsimpro.co.uk/show/improv-comedy-with-box-of-frogs-edinburgh-fringe-2026/2026-08-20/
LOCATION:theSpace on the Mile\, Radisson Blu Hotel\, 80 High St\, Edinburgh\, Edinburgh\, EH1 1TH\, United Kingdom
CATEGORIES:EdFringe,Shows
ATTACH;FMTTYPE=image/png:https://boxoffrogsimpro.co.uk/wp-content/uploads/2025/06/frogs-fringe.png
END:VEVENT
BEGIN:VEVENT
DTSTART;TZID=Europe/London:20260821T203000
DTEND;TZID=Europe/London:20260821T212000
DTSTAMP:20260419T183937
CREATED:20260406T155058Z
LAST-MODIFIED:20260406T155058Z
UID:10001094-1787344200-1787347200@boxoffrogsimpro.co.uk
SUMMARY:Improv Comedy with Box of Frogs @ Edinburgh Fringe 2026!
DESCRIPTION:Join Box of Frogs for uplifting and hilarious improvised comedy as they return for their fourth triumphant year! Expect the unexpected as these quick-witted performers instantly create silly sketches\, catchy songs and ridiculous characters – all inspired by your suggestions! Each show from this award-winning troupe (Best Improv Show\, Derek Awards\, Edinburgh Fringe 2025) is completely made-up and utterly unique! \nAudiences say they were ‘Laughing hard the whole way through!’ and it’s ‘So good we went back again! Genuine belly laughs’. \n★★★★★\n‘Comedy royalty’\nDerek Awards \n★★★★★\n‘Hilariously funny’\nMoreishTV
URL:https://boxoffrogsimpro.co.uk/show/improv-comedy-with-box-of-frogs-edinburgh-fringe-2026/2026-08-21/
LOCATION:theSpace on the Mile\, Radisson Blu Hotel\, 80 High St\, Edinburgh\, Edinburgh\, EH1 1TH\, United Kingdom
CATEGORIES:EdFringe,Shows
ATTACH;FMTTYPE=image/png:https://boxoffrogsimpro.co.uk/wp-content/uploads/2025/06/frogs-fringe.png
END:VEVENT
BEGIN:VEVENT
DTSTART;TZID=Europe/London:20260822T203000
DTEND;TZID=Europe/London:20260822T212000
DTSTAMP:20260419T183937
CREATED:20260406T155058Z
LAST-MODIFIED:20260406T155058Z
UID:10001095-1787430600-1787433600@boxoffrogsimpro.co.uk
SUMMARY:Improv Comedy with Box of Frogs @ Edinburgh Fringe 2026!
DESCRIPTION:Join Box of Frogs for uplifting and hilarious improvised comedy as they return for their fourth triumphant year! Expect the unexpected as these quick-witted performers instantly create silly sketches\, catchy songs and ridiculous characters – all inspired by your suggestions! Each show from this award-winning troupe (Best Improv Show\, Derek Awards\, Edinburgh Fringe 2025) is completely made-up and utterly unique! \nAudiences say they were ‘Laughing hard the whole way through!’ and it’s ‘So good we went back again! Genuine belly laughs’. \n★★★★★\n‘Comedy royalty’\nDerek Awards \n★★★★★\n‘Hilariously funny’\nMoreishTV
URL:https://boxoffrogsimpro.co.uk/show/improv-comedy-with-box-of-frogs-edinburgh-fringe-2026/2026-08-22/
LOCATION:theSpace on the Mile\, Radisson Blu Hotel\, 80 High St\, Edinburgh\, Edinburgh\, EH1 1TH\, United Kingdom
CATEGORIES:EdFringe,Shows
ATTACH;FMTTYPE=image/png:https://boxoffrogsimpro.co.uk/wp-content/uploads/2025/06/frogs-fringe.png
END:VEVENT
END:VCALENDAR