BEGIN:VCALENDAR
VERSION:2.0
PRODID:-//Box of Frogs - ECPv6.15.17//NONSGML v1.0//EN
CALSCALE:GREGORIAN
METHOD:PUBLISH
X-WR-CALNAME:Box of Frogs
X-ORIGINAL-URL:https://boxoffrogsimpro.co.uk
X-WR-CALDESC:Events for Box of Frogs
REFRESH-INTERVAL;VALUE=DURATION:PT1H
X-Robots-Tag:noindex
X-PUBLISHED-TTL:PT1H
BEGIN:VTIMEZONE
TZID:Europe/London
BEGIN:DAYLIGHT
TZOFFSETFROM:+0000
TZOFFSETTO:+0100
TZNAME:BST
DTSTART:20250330T010000
END:DAYLIGHT
BEGIN:STANDARD
TZOFFSETFROM:+0100
TZOFFSETTO:+0000
TZNAME:GMT
DTSTART:20251026T010000
END:STANDARD
BEGIN:DAYLIGHT
TZOFFSETFROM:+0000
TZOFFSETTO:+0100
TZNAME:BST
DTSTART:20260329T010000
END:DAYLIGHT
BEGIN:STANDARD
TZOFFSETFROM:+0100
TZOFFSETTO:+0000
TZNAME:GMT
DTSTART:20261025T010000
END:STANDARD
BEGIN:DAYLIGHT
TZOFFSETFROM:+0000
TZOFFSETTO:+0100
TZNAME:BST
DTSTART:20270328T010000
END:DAYLIGHT
BEGIN:STANDARD
TZOFFSETFROM:+0100
TZOFFSETTO:+0000
TZNAME:GMT
DTSTART:20271031T010000
END:STANDARD
END:VTIMEZONE
BEGIN:VEVENT
DTSTART;TZID=Europe/London:20260807T203000
DTEND;TZID=Europe/London:20260807T212000
DTSTAMP:20260421T134031
CREATED:20260406T155058Z
LAST-MODIFIED:20260406T155058Z
UID:10001081-1786134600-1786137600@boxoffrogsimpro.co.uk
SUMMARY:Improv Comedy with Box of Frogs @ Edinburgh Fringe 2026!
DESCRIPTION:Join Box of Frogs for uplifting and hilarious improvised comedy as they return for their fourth triumphant year! Expect the unexpected as these quick-witted performers instantly create silly sketches\, catchy songs and ridiculous characters – all inspired by your suggestions! Each show from this award-winning troupe (Best Improv Show\, Derek Awards\, Edinburgh Fringe 2025) is completely made-up and utterly unique! \nAudiences say they were ‘Laughing hard the whole way through!’ and it’s ‘So good we went back again! Genuine belly laughs’. \n★★★★★\n‘Comedy royalty’\nDerek Awards \n★★★★★\n‘Hilariously funny’\nMoreishTV
URL:https://boxoffrogsimpro.co.uk/show/improv-comedy-with-box-of-frogs-edinburgh-fringe-2026/2026-08-07/
LOCATION:theSpace on the Mile\, Radisson Blu Hotel\, 80 High St\, Edinburgh\, Edinburgh\, EH1 1TH\, United Kingdom
CATEGORIES:EdFringe,Shows
ATTACH;FMTTYPE=image/png:https://boxoffrogsimpro.co.uk/wp-content/uploads/2025/06/frogs-fringe.png
END:VEVENT
BEGIN:VEVENT
DTSTART;TZID=Europe/London:20260808T203000
DTEND;TZID=Europe/London:20260808T212000
DTSTAMP:20260421T134031
CREATED:20260406T155058Z
LAST-MODIFIED:20260406T155058Z
UID:10001082-1786221000-1786224000@boxoffrogsimpro.co.uk
SUMMARY:Improv Comedy with Box of Frogs @ Edinburgh Fringe 2026!
DESCRIPTION:Join Box of Frogs for uplifting and hilarious improvised comedy as they return for their fourth triumphant year! Expect the unexpected as these quick-witted performers instantly create silly sketches\, catchy songs and ridiculous characters – all inspired by your suggestions! Each show from this award-winning troupe (Best Improv Show\, Derek Awards\, Edinburgh Fringe 2025) is completely made-up and utterly unique! \nAudiences say they were ‘Laughing hard the whole way through!’ and it’s ‘So good we went back again! Genuine belly laughs’. \n★★★★★\n‘Comedy royalty’\nDerek Awards \n★★★★★\n‘Hilariously funny’\nMoreishTV
URL:https://boxoffrogsimpro.co.uk/show/improv-comedy-with-box-of-frogs-edinburgh-fringe-2026/2026-08-08/
LOCATION:theSpace on the Mile\, Radisson Blu Hotel\, 80 High St\, Edinburgh\, Edinburgh\, EH1 1TH\, United Kingdom
CATEGORIES:EdFringe,Shows
ATTACH;FMTTYPE=image/png:https://boxoffrogsimpro.co.uk/wp-content/uploads/2025/06/frogs-fringe.png
END:VEVENT
BEGIN:VEVENT
DTSTART;TZID=Europe/London:20260809T203000
DTEND;TZID=Europe/London:20260809T212000
DTSTAMP:20260421T134031
CREATED:20260406T155058Z
LAST-MODIFIED:20260406T155058Z
UID:10001083-1786307400-1786310400@boxoffrogsimpro.co.uk
SUMMARY:Improv Comedy with Box of Frogs @ Edinburgh Fringe 2026!
DESCRIPTION:Join Box of Frogs for uplifting and hilarious improvised comedy as they return for their fourth triumphant year! Expect the unexpected as these quick-witted performers instantly create silly sketches\, catchy songs and ridiculous characters – all inspired by your suggestions! Each show from this award-winning troupe (Best Improv Show\, Derek Awards\, Edinburgh Fringe 2025) is completely made-up and utterly unique! \nAudiences say they were ‘Laughing hard the whole way through!’ and it’s ‘So good we went back again! Genuine belly laughs’. \n★★★★★\n‘Comedy royalty’\nDerek Awards \n★★★★★\n‘Hilariously funny’\nMoreishTV
URL:https://boxoffrogsimpro.co.uk/show/improv-comedy-with-box-of-frogs-edinburgh-fringe-2026/2026-08-09/
LOCATION:theSpace on the Mile\, Radisson Blu Hotel\, 80 High St\, Edinburgh\, Edinburgh\, EH1 1TH\, United Kingdom
CATEGORIES:EdFringe,Shows
ATTACH;FMTTYPE=image/png:https://boxoffrogsimpro.co.uk/wp-content/uploads/2025/06/frogs-fringe.png
END:VEVENT
BEGIN:VEVENT
DTSTART;TZID=Europe/London:20260810T203000
DTEND;TZID=Europe/London:20260810T212000
DTSTAMP:20260421T134031
CREATED:20260406T155058Z
LAST-MODIFIED:20260406T155058Z
UID:10001084-1786393800-1786396800@boxoffrogsimpro.co.uk
SUMMARY:Improv Comedy with Box of Frogs @ Edinburgh Fringe 2026!
DESCRIPTION:Join Box of Frogs for uplifting and hilarious improvised comedy as they return for their fourth triumphant year! Expect the unexpected as these quick-witted performers instantly create silly sketches\, catchy songs and ridiculous characters – all inspired by your suggestions! Each show from this award-winning troupe (Best Improv Show\, Derek Awards\, Edinburgh Fringe 2025) is completely made-up and utterly unique! \nAudiences say they were ‘Laughing hard the whole way through!’ and it’s ‘So good we went back again! Genuine belly laughs’. \n★★★★★\n‘Comedy royalty’\nDerek Awards \n★★★★★\n‘Hilariously funny’\nMoreishTV
URL:https://boxoffrogsimpro.co.uk/show/improv-comedy-with-box-of-frogs-edinburgh-fringe-2026/2026-08-10/
LOCATION:theSpace on the Mile\, Radisson Blu Hotel\, 80 High St\, Edinburgh\, Edinburgh\, EH1 1TH\, United Kingdom
CATEGORIES:EdFringe,Shows
ATTACH;FMTTYPE=image/png:https://boxoffrogsimpro.co.uk/wp-content/uploads/2025/06/frogs-fringe.png
END:VEVENT
BEGIN:VEVENT
DTSTART;TZID=Europe/London:20260811T203000
DTEND;TZID=Europe/London:20260811T212000
DTSTAMP:20260421T134031
CREATED:20260406T155058Z
LAST-MODIFIED:20260406T155058Z
UID:10001085-1786480200-1786483200@boxoffrogsimpro.co.uk
SUMMARY:Improv Comedy with Box of Frogs @ Edinburgh Fringe 2026!
DESCRIPTION:Join Box of Frogs for uplifting and hilarious improvised comedy as they return for their fourth triumphant year! Expect the unexpected as these quick-witted performers instantly create silly sketches\, catchy songs and ridiculous characters – all inspired by your suggestions! Each show from this award-winning troupe (Best Improv Show\, Derek Awards\, Edinburgh Fringe 2025) is completely made-up and utterly unique! \nAudiences say they were ‘Laughing hard the whole way through!’ and it’s ‘So good we went back again! Genuine belly laughs’. \n★★★★★\n‘Comedy royalty’\nDerek Awards \n★★★★★\n‘Hilariously funny’\nMoreishTV
URL:https://boxoffrogsimpro.co.uk/show/improv-comedy-with-box-of-frogs-edinburgh-fringe-2026/2026-08-11/
LOCATION:theSpace on the Mile\, Radisson Blu Hotel\, 80 High St\, Edinburgh\, Edinburgh\, EH1 1TH\, United Kingdom
CATEGORIES:EdFringe,Shows
ATTACH;FMTTYPE=image/png:https://boxoffrogsimpro.co.uk/wp-content/uploads/2025/06/frogs-fringe.png
END:VEVENT
BEGIN:VEVENT
DTSTART;TZID=Europe/London:20260812T203000
DTEND;TZID=Europe/London:20260812T212000
DTSTAMP:20260421T134031
CREATED:20260406T155058Z
LAST-MODIFIED:20260406T155058Z
UID:10001086-1786566600-1786569600@boxoffrogsimpro.co.uk
SUMMARY:Improv Comedy with Box of Frogs @ Edinburgh Fringe 2026!
DESCRIPTION:Join Box of Frogs for uplifting and hilarious improvised comedy as they return for their fourth triumphant year! Expect the unexpected as these quick-witted performers instantly create silly sketches\, catchy songs and ridiculous characters – all inspired by your suggestions! Each show from this award-winning troupe (Best Improv Show\, Derek Awards\, Edinburgh Fringe 2025) is completely made-up and utterly unique! \nAudiences say they were ‘Laughing hard the whole way through!’ and it’s ‘So good we went back again! Genuine belly laughs’. \n★★★★★\n‘Comedy royalty’\nDerek Awards \n★★★★★\n‘Hilariously funny’\nMoreishTV
URL:https://boxoffrogsimpro.co.uk/show/improv-comedy-with-box-of-frogs-edinburgh-fringe-2026/2026-08-12/
LOCATION:theSpace on the Mile\, Radisson Blu Hotel\, 80 High St\, Edinburgh\, Edinburgh\, EH1 1TH\, United Kingdom
CATEGORIES:EdFringe,Shows
ATTACH;FMTTYPE=image/png:https://boxoffrogsimpro.co.uk/wp-content/uploads/2025/06/frogs-fringe.png
END:VEVENT
BEGIN:VEVENT
DTSTART;TZID=Europe/London:20260813T203000
DTEND;TZID=Europe/London:20260813T212000
DTSTAMP:20260421T134031
CREATED:20260406T155058Z
LAST-MODIFIED:20260406T155058Z
UID:10001087-1786653000-1786656000@boxoffrogsimpro.co.uk
SUMMARY:Improv Comedy with Box of Frogs @ Edinburgh Fringe 2026!
DESCRIPTION:Join Box of Frogs for uplifting and hilarious improvised comedy as they return for their fourth triumphant year! Expect the unexpected as these quick-witted performers instantly create silly sketches\, catchy songs and ridiculous characters – all inspired by your suggestions! Each show from this award-winning troupe (Best Improv Show\, Derek Awards\, Edinburgh Fringe 2025) is completely made-up and utterly unique! \nAudiences say they were ‘Laughing hard the whole way through!’ and it’s ‘So good we went back again! Genuine belly laughs’. \n★★★★★\n‘Comedy royalty’\nDerek Awards \n★★★★★\n‘Hilariously funny’\nMoreishTV
URL:https://boxoffrogsimpro.co.uk/show/improv-comedy-with-box-of-frogs-edinburgh-fringe-2026/2026-08-13/
LOCATION:theSpace on the Mile\, Radisson Blu Hotel\, 80 High St\, Edinburgh\, Edinburgh\, EH1 1TH\, United Kingdom
CATEGORIES:EdFringe,Shows
ATTACH;FMTTYPE=image/png:https://boxoffrogsimpro.co.uk/wp-content/uploads/2025/06/frogs-fringe.png
END:VEVENT
BEGIN:VEVENT
DTSTART;TZID=Europe/London:20260814T203000
DTEND;TZID=Europe/London:20260814T212000
DTSTAMP:20260421T134031
CREATED:20260406T155058Z
LAST-MODIFIED:20260406T155058Z
UID:10001088-1786739400-1786742400@boxoffrogsimpro.co.uk
SUMMARY:Improv Comedy with Box of Frogs @ Edinburgh Fringe 2026!
DESCRIPTION:Join Box of Frogs for uplifting and hilarious improvised comedy as they return for their fourth triumphant year! Expect the unexpected as these quick-witted performers instantly create silly sketches\, catchy songs and ridiculous characters – all inspired by your suggestions! Each show from this award-winning troupe (Best Improv Show\, Derek Awards\, Edinburgh Fringe 2025) is completely made-up and utterly unique! \nAudiences say they were ‘Laughing hard the whole way through!’ and it’s ‘So good we went back again! Genuine belly laughs’. \n★★★★★\n‘Comedy royalty’\nDerek Awards \n★★★★★\n‘Hilariously funny’\nMoreishTV
URL:https://boxoffrogsimpro.co.uk/show/improv-comedy-with-box-of-frogs-edinburgh-fringe-2026/2026-08-14/
LOCATION:theSpace on the Mile\, Radisson Blu Hotel\, 80 High St\, Edinburgh\, Edinburgh\, EH1 1TH\, United Kingdom
CATEGORIES:EdFringe,Shows
ATTACH;FMTTYPE=image/png:https://boxoffrogsimpro.co.uk/wp-content/uploads/2025/06/frogs-fringe.png
END:VEVENT
BEGIN:VEVENT
DTSTART;TZID=Europe/London:20260815T203000
DTEND;TZID=Europe/London:20260815T212000
DTSTAMP:20260421T134031
CREATED:20260406T155058Z
LAST-MODIFIED:20260406T155058Z
UID:10001089-1786825800-1786828800@boxoffrogsimpro.co.uk
SUMMARY:Improv Comedy with Box of Frogs @ Edinburgh Fringe 2026!
DESCRIPTION:Join Box of Frogs for uplifting and hilarious improvised comedy as they return for their fourth triumphant year! Expect the unexpected as these quick-witted performers instantly create silly sketches\, catchy songs and ridiculous characters – all inspired by your suggestions! Each show from this award-winning troupe (Best Improv Show\, Derek Awards\, Edinburgh Fringe 2025) is completely made-up and utterly unique! \nAudiences say they were ‘Laughing hard the whole way through!’ and it’s ‘So good we went back again! Genuine belly laughs’. \n★★★★★\n‘Comedy royalty’\nDerek Awards \n★★★★★\n‘Hilariously funny’\nMoreishTV
URL:https://boxoffrogsimpro.co.uk/show/improv-comedy-with-box-of-frogs-edinburgh-fringe-2026/2026-08-15/
LOCATION:theSpace on the Mile\, Radisson Blu Hotel\, 80 High St\, Edinburgh\, Edinburgh\, EH1 1TH\, United Kingdom
CATEGORIES:EdFringe,Shows
ATTACH;FMTTYPE=image/png:https://boxoffrogsimpro.co.uk/wp-content/uploads/2025/06/frogs-fringe.png
END:VEVENT
BEGIN:VEVENT
DTSTART;TZID=Europe/London:20260817T203000
DTEND;TZID=Europe/London:20260817T212000
DTSTAMP:20260421T134031
CREATED:20260406T155058Z
LAST-MODIFIED:20260406T155058Z
UID:10001090-1786998600-1787001600@boxoffrogsimpro.co.uk
SUMMARY:Improv Comedy with Box of Frogs @ Edinburgh Fringe 2026!
DESCRIPTION:Join Box of Frogs for uplifting and hilarious improvised comedy as they return for their fourth triumphant year! Expect the unexpected as these quick-witted performers instantly create silly sketches\, catchy songs and ridiculous characters – all inspired by your suggestions! Each show from this award-winning troupe (Best Improv Show\, Derek Awards\, Edinburgh Fringe 2025) is completely made-up and utterly unique! \nAudiences say they were ‘Laughing hard the whole way through!’ and it’s ‘So good we went back again! Genuine belly laughs’. \n★★★★★\n‘Comedy royalty’\nDerek Awards \n★★★★★\n‘Hilariously funny’\nMoreishTV
URL:https://boxoffrogsimpro.co.uk/show/improv-comedy-with-box-of-frogs-edinburgh-fringe-2026/2026-08-17/
LOCATION:theSpace on the Mile\, Radisson Blu Hotel\, 80 High St\, Edinburgh\, Edinburgh\, EH1 1TH\, United Kingdom
CATEGORIES:EdFringe,Shows
ATTACH;FMTTYPE=image/png:https://boxoffrogsimpro.co.uk/wp-content/uploads/2025/06/frogs-fringe.png
END:VEVENT
BEGIN:VEVENT
DTSTART;TZID=Europe/London:20260818T203000
DTEND;TZID=Europe/London:20260818T212000
DTSTAMP:20260421T134031
CREATED:20260406T155058Z
LAST-MODIFIED:20260406T155058Z
UID:10001091-1787085000-1787088000@boxoffrogsimpro.co.uk
SUMMARY:Improv Comedy with Box of Frogs @ Edinburgh Fringe 2026!
DESCRIPTION:Join Box of Frogs for uplifting and hilarious improvised comedy as they return for their fourth triumphant year! Expect the unexpected as these quick-witted performers instantly create silly sketches\, catchy songs and ridiculous characters – all inspired by your suggestions! Each show from this award-winning troupe (Best Improv Show\, Derek Awards\, Edinburgh Fringe 2025) is completely made-up and utterly unique! \nAudiences say they were ‘Laughing hard the whole way through!’ and it’s ‘So good we went back again! Genuine belly laughs’. \n★★★★★\n‘Comedy royalty’\nDerek Awards \n★★★★★\n‘Hilariously funny’\nMoreishTV
URL:https://boxoffrogsimpro.co.uk/show/improv-comedy-with-box-of-frogs-edinburgh-fringe-2026/2026-08-18/
LOCATION:theSpace on the Mile\, Radisson Blu Hotel\, 80 High St\, Edinburgh\, Edinburgh\, EH1 1TH\, United Kingdom
CATEGORIES:EdFringe,Shows
ATTACH;FMTTYPE=image/png:https://boxoffrogsimpro.co.uk/wp-content/uploads/2025/06/frogs-fringe.png
END:VEVENT
BEGIN:VEVENT
DTSTART;TZID=Europe/London:20260819T203000
DTEND;TZID=Europe/London:20260819T212000
DTSTAMP:20260421T134031
CREATED:20260406T155058Z
LAST-MODIFIED:20260406T155058Z
UID:10001092-1787171400-1787174400@boxoffrogsimpro.co.uk
SUMMARY:Improv Comedy with Box of Frogs @ Edinburgh Fringe 2026!
DESCRIPTION:Join Box of Frogs for uplifting and hilarious improvised comedy as they return for their fourth triumphant year! Expect the unexpected as these quick-witted performers instantly create silly sketches\, catchy songs and ridiculous characters – all inspired by your suggestions! Each show from this award-winning troupe (Best Improv Show\, Derek Awards\, Edinburgh Fringe 2025) is completely made-up and utterly unique! \nAudiences say they were ‘Laughing hard the whole way through!’ and it’s ‘So good we went back again! Genuine belly laughs’. \n★★★★★\n‘Comedy royalty’\nDerek Awards \n★★★★★\n‘Hilariously funny’\nMoreishTV
URL:https://boxoffrogsimpro.co.uk/show/improv-comedy-with-box-of-frogs-edinburgh-fringe-2026/2026-08-19/
LOCATION:theSpace on the Mile\, Radisson Blu Hotel\, 80 High St\, Edinburgh\, Edinburgh\, EH1 1TH\, United Kingdom
CATEGORIES:EdFringe,Shows
ATTACH;FMTTYPE=image/png:https://boxoffrogsimpro.co.uk/wp-content/uploads/2025/06/frogs-fringe.png
END:VEVENT
BEGIN:VEVENT
DTSTART;TZID=Europe/London:20260820T203000
DTEND;TZID=Europe/London:20260820T212000
DTSTAMP:20260421T134031
CREATED:20260406T155058Z
LAST-MODIFIED:20260406T155058Z
UID:10001093-1787257800-1787260800@boxoffrogsimpro.co.uk
SUMMARY:Improv Comedy with Box of Frogs @ Edinburgh Fringe 2026!
DESCRIPTION:Join Box of Frogs for uplifting and hilarious improvised comedy as they return for their fourth triumphant year! Expect the unexpected as these quick-witted performers instantly create silly sketches\, catchy songs and ridiculous characters – all inspired by your suggestions! Each show from this award-winning troupe (Best Improv Show\, Derek Awards\, Edinburgh Fringe 2025) is completely made-up and utterly unique! \nAudiences say they were ‘Laughing hard the whole way through!’ and it’s ‘So good we went back again! Genuine belly laughs’. \n★★★★★\n‘Comedy royalty’\nDerek Awards \n★★★★★\n‘Hilariously funny’\nMoreishTV
URL:https://boxoffrogsimpro.co.uk/show/improv-comedy-with-box-of-frogs-edinburgh-fringe-2026/2026-08-20/
LOCATION:theSpace on the Mile\, Radisson Blu Hotel\, 80 High St\, Edinburgh\, Edinburgh\, EH1 1TH\, United Kingdom
CATEGORIES:EdFringe,Shows
ATTACH;FMTTYPE=image/png:https://boxoffrogsimpro.co.uk/wp-content/uploads/2025/06/frogs-fringe.png
END:VEVENT
BEGIN:VEVENT
DTSTART;TZID=Europe/London:20260821T203000
DTEND;TZID=Europe/London:20260821T212000
DTSTAMP:20260421T134031
CREATED:20260406T155058Z
LAST-MODIFIED:20260406T155058Z
UID:10001094-1787344200-1787347200@boxoffrogsimpro.co.uk
SUMMARY:Improv Comedy with Box of Frogs @ Edinburgh Fringe 2026!
DESCRIPTION:Join Box of Frogs for uplifting and hilarious improvised comedy as they return for their fourth triumphant year! Expect the unexpected as these quick-witted performers instantly create silly sketches\, catchy songs and ridiculous characters – all inspired by your suggestions! Each show from this award-winning troupe (Best Improv Show\, Derek Awards\, Edinburgh Fringe 2025) is completely made-up and utterly unique! \nAudiences say they were ‘Laughing hard the whole way through!’ and it’s ‘So good we went back again! Genuine belly laughs’. \n★★★★★\n‘Comedy royalty’\nDerek Awards \n★★★★★\n‘Hilariously funny’\nMoreishTV
URL:https://boxoffrogsimpro.co.uk/show/improv-comedy-with-box-of-frogs-edinburgh-fringe-2026/2026-08-21/
LOCATION:theSpace on the Mile\, Radisson Blu Hotel\, 80 High St\, Edinburgh\, Edinburgh\, EH1 1TH\, United Kingdom
CATEGORIES:EdFringe,Shows
ATTACH;FMTTYPE=image/png:https://boxoffrogsimpro.co.uk/wp-content/uploads/2025/06/frogs-fringe.png
END:VEVENT
BEGIN:VEVENT
DTSTART;TZID=Europe/London:20260822T203000
DTEND;TZID=Europe/London:20260822T212000
DTSTAMP:20260421T134031
CREATED:20260406T155058Z
LAST-MODIFIED:20260406T155058Z
UID:10001095-1787430600-1787433600@boxoffrogsimpro.co.uk
SUMMARY:Improv Comedy with Box of Frogs @ Edinburgh Fringe 2026!
DESCRIPTION:Join Box of Frogs for uplifting and hilarious improvised comedy as they return for their fourth triumphant year! Expect the unexpected as these quick-witted performers instantly create silly sketches\, catchy songs and ridiculous characters – all inspired by your suggestions! Each show from this award-winning troupe (Best Improv Show\, Derek Awards\, Edinburgh Fringe 2025) is completely made-up and utterly unique! \nAudiences say they were ‘Laughing hard the whole way through!’ and it’s ‘So good we went back again! Genuine belly laughs’. \n★★★★★\n‘Comedy royalty’\nDerek Awards \n★★★★★\n‘Hilariously funny’\nMoreishTV
URL:https://boxoffrogsimpro.co.uk/show/improv-comedy-with-box-of-frogs-edinburgh-fringe-2026/2026-08-22/
LOCATION:theSpace on the Mile\, Radisson Blu Hotel\, 80 High St\, Edinburgh\, Edinburgh\, EH1 1TH\, United Kingdom
CATEGORIES:EdFringe,Shows
ATTACH;FMTTYPE=image/png:https://boxoffrogsimpro.co.uk/wp-content/uploads/2025/06/frogs-fringe.png
END:VEVENT
END:VCALENDAR