BEGIN:VCALENDAR
VERSION:2.0
PRODID:-//Box of Frogs - ECPv6.15.17//NONSGML v1.0//EN
CALSCALE:GREGORIAN
METHOD:PUBLISH
X-WR-CALNAME:Box of Frogs
X-ORIGINAL-URL:https://boxoffrogsimpro.co.uk
X-WR-CALDESC:Events for Box of Frogs
REFRESH-INTERVAL;VALUE=DURATION:PT1H
X-Robots-Tag:noindex
X-PUBLISHED-TTL:PT1H
BEGIN:VTIMEZONE
TZID:Europe/London
BEGIN:DAYLIGHT
TZOFFSETFROM:+0000
TZOFFSETTO:+0100
TZNAME:BST
DTSTART:20230326T010000
END:DAYLIGHT
BEGIN:STANDARD
TZOFFSETFROM:+0100
TZOFFSETTO:+0000
TZNAME:GMT
DTSTART:20231029T010000
END:STANDARD
BEGIN:DAYLIGHT
TZOFFSETFROM:+0000
TZOFFSETTO:+0100
TZNAME:BST
DTSTART:20240331T010000
END:DAYLIGHT
BEGIN:STANDARD
TZOFFSETFROM:+0100
TZOFFSETTO:+0000
TZNAME:GMT
DTSTART:20241027T010000
END:STANDARD
BEGIN:DAYLIGHT
TZOFFSETFROM:+0000
TZOFFSETTO:+0100
TZNAME:BST
DTSTART:20250330T010000
END:DAYLIGHT
BEGIN:STANDARD
TZOFFSETFROM:+0100
TZOFFSETTO:+0000
TZNAME:GMT
DTSTART:20251026T010000
END:STANDARD
END:VTIMEZONE
BEGIN:VEVENT
DTSTART;TZID=Europe/London:20240714T190000
DTEND;TZID=Europe/London:20240714T210000
DTSTAMP:20260423T214236
CREATED:20240328T113408Z
LAST-MODIFIED:20240606T111207Z
UID:10000546-1720983600-1720990800@boxoffrogsimpro.co.uk
SUMMARY:Box of Frogs at Birmingham Fest
DESCRIPTION:As part of Birmingham Fest\, Box of Frogs\, Birmingham’s premier Improv Group\, brings you three fabulous evenings of improvised comedy. The multi-talented and quick-witted Box of Frogs players conjure up hilarious spontaneous songs\, sketches and scenes on the spur of the moment\, all based on suggestions from the audience. \n\n\n\n“superb night … great entertainment” – midlandsimprov.com \n“this show was terrific fun as well as being great value for money“ – Brumhour \n“Guarantee you’ll be laughing throughout.” – Love Midlands Theatre \n“The brilliant and bouncy Box of Frogs is definitely a group to see at least once before you croak.” – Bum On A Seat
URL:https://boxoffrogsimpro.co.uk/show/box-of-frogs-at-brumfest-2/
LOCATION:Blue Orange Theatre\, 118 Great Hampton St.\, Birmingham\, B18 6AD
CATEGORIES:Shows
ATTACH;FMTTYPE=image/png:https://boxoffrogsimpro.co.uk/wp-content/uploads/2024/03/Screenshot-2024-06-06-at-12.10.44 PM.png
END:VEVENT
BEGIN:VEVENT
DTSTART;TZID=Europe/London:20240731T193000
DTEND;TZID=Europe/London:20240731T213000
DTSTAMP:20260423T214236
CREATED:20240328T110449Z
LAST-MODIFIED:20241106T115749Z
UID:10000955-1722454200-1722461400@boxoffrogsimpro.co.uk
SUMMARY:Birmingam Improv Comedy Jam (ft. Box of Frogs)
DESCRIPTION:Come and enjoy the Birmingham Improv comedy Jam!! \nAn evening of fun for all. Turn up\, grab a drink\, put your name in the hat\, and perform! Or if you prefer\, just watch the fun! \nWith a different Improv group invited  to entertain us each month for the first half. Followed by a jam hosted by resident guests\, Box of Frogs. \nCome and play your favourite improv games\, take part in improvised scenes\, sketches and songs\, or just sit back and watch. \nSuitable for all levels of experience\, including complete beginners. \nShow starts at 7.30.  Come earlier if you fancy a drink first. \nFree Entry (recommended donation\, £5)
URL:https://boxoffrogsimpro.co.uk/show/birmingam-improv-comedy-jam-ft-box-of-frogs-2/2024-07-31/
LOCATION:1000 Trades\, 16 Frederick Street\, Jewellery Quarter\, Birmingham\, B1 3HE\, United Kingdom
CATEGORIES:Shows
ATTACH;FMTTYPE=image/jpeg:https://boxoffrogsimpro.co.uk/wp-content/uploads/2023/01/bimprov-a5-flyer-comedy-jam.jpg
END:VEVENT
END:VCALENDAR